Workbook
Name Months: Sheet1!$A$11:$A$22
Name YesNo: Sheet1!$A$1:$A$2

Sheet Budget
B2: #VALUE!
B3: الرصيد الشهري المتوقع | I3: للإستفسار او للابلاغ عن أي ملاحظة ارسل ايميل على contact@baizat.com
B4: P املأ هذه الصفحة في بداية الشهر مع تخطيط الميزانية والتوقعات الخاصة بك | K4: الشهر: | M4: ابريل
B6: P ادخل معلوماتك في الخانة الصفراء - البقية ستعبأ تلقائياً
B8: في نهايته الشهر املأ الجداول الفعلية في الصفحة الثانية
B10: الدخل الشهري | C10: الراتب | E10: 30000 | L10: الرصيد المتوقع لهذا الشهر هو (الدخل - مجموع التكاليف): | M10: =E13-M36 -> 34990
C11: راتب الشريك | E11: 5000
C12: الدخل الإضافي | E12: 0
C13: إجمالي الدخل الشهري | E13: =SUM(E10:E12) -> 35000
B15: لجميع التكاليف الضرورية, انقر فوق القائمة المنسدلة و قم بتغيير الحقل الى "نعم", المجموع سيحتسب تلقائيا.
B17: السكن | C17: التكاليف | D17: ضرروية؟ | E17: Column1 | G17: الترفيه | H17: التكاليف | I17: ضرروية؟ | J17: Column1 | L17: الديون | M17: التكاليف | N17: ضرروية؟ | O17: Column1
B18: الرهن العقاري | C18: 0 | D18: نعم | E18: =IF(D18="نعم",C18,0) -> 0 | G18: السينما | H18: 0 | I18: نعم | J18: =IF(I18="نعم",H18,0) -> 0 | L18: بطاقة الائتمان 1 | M18: 0 | N18: لا | O18: =IF(N18="نعم",M18,0) -> 0
B19: الكهرباء و المياه | C19: 0 | D19: نعم | E19: =IF(D19="نعم",C19,0) -> 0 | G19: المطاعم | H19: 0 | I19: لا | J19: =IF(I19="نعم",H19,0) -> 0 | L19: بطاقة الائتمان 2 | M19: 0 | N19: لا | O19: =IF(N19="نعم",M19,0) -> 0
B20: الصيانة | C20: 0 | D20: نعم | E20: =IF(D20="نعم",C20,0) -> 0 | G20: الوجبات السريعة | H20: 0 | I20: لا | J20: =IF(I20="نعم",H20,0) -> 0 | L20: قرض السيارة | M20: 0 | N20: نعم | O20: =IF(N20="نعم",M20,0) -> 0
B21: التلفاز | C21: 0 | D21: نعم | E21: =IF(D21="نعم",C21,0) -> 0 | G21: أقراص الفيديو | H21: 0 | I21: لا | J21: =IF(I21="نعم",H21,0) -> 0 | L21: القرض الشخصي | M21: 0 | N21: لا | O21: =IF(N21="نعم",M21,0) -> 0
B22: المفروشات | C22: 0 | D22: لا | E22: =IF(D22="نعم",C22,0) -> 0 | G22: <اخرى> | H22: 0 | I22: لا | J22: =IF(I22="نعم",H22,0) -> 0 | L22: <اخرى> | M22: 0 | N22: لا | O22: =IF(N22="نعم",M22,0) -> 0
B23: تجديد الحمام | C23: 0 | D23: لا | E23: =IF(D23="نعم",C23,0) -> 0 | G23: <اخرى> | H23: 0 | I23: لا | J23: =IF(I23="نعم",H23,0) -> 0 | L23: <اخرى> | M23: 0 | N23: لا | O23: =IF(N23="نعم",M23,0) -> 0
B24: <اخرى> | C24: 0 | D24: لا | E24: =IF(D24="نعم",C24,0) -> 0 | G24: <اخرى> | H24: 0 | I24: لا | J24: =IF(I24="نعم",H24,0) -> 0 | L24: <اخرى> | M24: 0 | N24: لا | O24: =IF(N24="نعم",M24,0) -> 0
B25: <اخرى> | C25: 0 | D25: لا | E25: =IF(D25="نعم",C25,0) -> 0 | G25: <اخرى> | H25: 0 | I25: لا | J25: =IF(I25="نعم",H25,0) -> 0 | L25: <اخرى> | M25: 0 | N25: لا | O25: =IF(N25="نعم",M25,0) -> 0
B26: المجموع | C26: =SUBTOTAL(109,Table1[التكاليف]) -> 0 | D26: =SUM(Table1[Column1]) -> 0 | G26: المجموع | H26: =SUBTOTAL(109,Table2[التكاليف]) -> 0 | I26: =SUM(Table2[Column1]) -> 0 | L26: المجموع | M26: =SUBTOTAL(109,Table4[التكاليف]) -> 0 | N26: =SUM(Table4[Column1]) -> 0
B28: المواصلات | C28: التكاليف | D28: ضرروية؟ | E28: Column1 | G28: المصاريف الشخصية | H28: التكاليف | I28: ضرروية؟ | J28: Column1 | L28: مجموع الضروريات | M28: التكاليف | P28: هذا الجدول سيُملأ تلقائياً
B29: البنزين | C29: 0 | D29: نعم | E29: =IF(D29="نعم",C29,0) -> 0 | G29: الطعام | H29: 0 | I29: نعم | J29: =IF(I29="نعم",H29,0) -> 0 | L29: المصاريف الشخصية | M29: =Table3[[#Totals],[ضرروية؟]] -> 0
B30: الصيانة | C30: 0 | D30: نعم | E30: =IF(D30="نعم",C30,0) -> 0 | G30: الخادمة | H30: 0 | I30: نعم | J30: =IF(I30="نعم",H30,0) -> 0 | L30: السكن | M30: =Table1[[#Totals],[ضرروية؟]] -> 0
B31: التأمين | C31: 0 | D31: نعم | E31: =IF(D31="نعم",C31,0) -> 0 | G31: الملابس | H31: 0 | I31: نعم | J31: =IF(I31="نعم",H31,0) -> 0 | L31: المواصلات | M31: =Table8[[#Totals],[ضرروية؟]] -> 0
B32: سيارة الأجرة | C32: 0 | D32: نعم | E32: =IF(D32="نعم",C32,0) -> 0 | G32: الأحذية | H32: 0 | I32: نعم | J32: =IF(I32="نعم",H32,0) -> 0 | L32: الديون | M32: =Table4[[#Totals],[ضرروية؟]] -> 0
B33: <اخرى> | C33: 0 | D33: لا | E33: =IF(D33="نعم",C33,0) -> 0 | G33: الأطفال | H33: 0 | I33: نعم | J33: =IF(I33="نعم",H33,0) -> 0 | L33: الترفيه | M33: =Table2[[#Totals],[ضرروية؟]] -> 0
B34: <اخرى> | C34: 0 | D34: لا | E34: =IF(D34="نعم",C34,0) -> 0 | G34: المجوهرات | H34: 0 | I34: لا | J34: =IF(I34="نعم",H34,0) -> 0 | L34: المجموع | M34: =SUBTOTAL(109,Table46[التكاليف]) -> 0
B35: <اخرى> | C35: 0 | D35: لا | E35: =IF(D35="نعم",C35,0) -> 0 | G35: الهدايا | H35: 0 | I35: لا | J35: =IF(I35="نعم",H35,0) -> 0
B36: المجموع | C36: =SUBTOTAL(109,Table8[التكاليف]) -> 0 | D36: =SUM(Table8[Column1]) -> 0 | G36: <اخرى> | H36: 0 | I36: لا | J36: =IF(I36="نعم",H36,0) -> 0 | L36: اجمالي التكاليف المتوقعة | M36: =SUM(Table1[[#Totals],[التكاليف]],Table2[[#Totals],[التكاليف]],Table4[[#Totals],[التكاليف]],Table8[[#Totals],[التكاليف]],Table3[[#Totals],[التكاليف]]) -> 10
G37: <اخرى> | H37: 0 | I37: لا | J37: =IF(I37="نعم",H37,0) -> 0
G38: <اخرى> | H38: 0 | I38: لا | J38: =IF(I38="نعم",H38,0) -> 0
G39: <اخرى> | H39: 0 | I39: لا | J39: =IF(I39="نعم",H39,0) -> 0 | L39: اجمالي التكاليف الغير متوقعة | M39: =SUM(M36-Table46[[#Totals],[التكاليف]]) -> 10
G40: <اخرى> | H40: 10 | I40: لا | J40: =IF(I40="نعم",H40,0) -> 0
G41: المجموع | H41: =SUBTOTAL(109,Table3[التكاليف]) -> 10 | I41: =SUM(Table3[Column1]) -> 0

Sheet Actual
B1: #VALUE! | H1: للإستفسار او للابلاغ عن أي ملاحظة ارسل ايميل على contact@baizat.com
B2: الرصيد الشهري الفعلي | K2: =Budget!M4 -> ابريل
B4: P قم بتحديث التكاليف الفعلية الخاصة بك لهذا الشهر، سيكون كل شيء آخر محدث تلقائيا
B6: P أدخل معلوماتك في الحقول ذات اللون الأصفر - سيتم تعبئة الباقي تلقائيًا
B8: الدخل الشهري | H8: الرصيد الفعلي
B9: املأ الدخل الشهري الفعلي | H9: أدناه إجمالي الرصيد الفعلي لهذا الشهر ومدى قرب التقدير الخاص بك
B11: الدخل | C11: Predicted (do not fill) | D11: الفعلي (املأ) | E11: الفرق (لا تملأ) | H11: مجموع رصيدك لهذا الشهر (الدخل-التكاليف): | K11: =SUM(D15-K58) -> 0
B12: الراتب | C12: =Budget!E10 -> 30000 | D12: 0 | E12: =C12-D12 -> 30000
B13: راتب الشريك | C13: =Budget!E11 -> 5000 | D13: 0 | E13: =C13-D13 -> 5000
B14: الدخل الاضافي | C14: =Budget!E12 -> 0 | D14: 0 | E14: =C14-D14 -> 0 | H14: رصيدك المقدر: | K14: =IF(K16>0,"أقل بكثير بمقدار", IF(K16=0, "مطابق", IF(K16<0, "أعلى بكثير بمقدار"))) -> أعلى بكثير بمقدار
B15: الدخل الشهري الاجمالي | C15: =SUM(C12:C14) -> 35000 | D15: =SUM(D12:D14) -> 0 | E15: =C15-D15 -> 35000
K16: =SUM(K11-Budget!M10) -> -34990
B18: السكن | H18: الترفيه
B19: املأ التكاليف الفعلية و الضرورية | H19: املأ التكاليف الفعلية و الضرورية
B21: السكن | C21: Predicted (do not fill) | D21: الفعلي (املأ) | E21: الفرق (لا تملأ) | F21: Column1 | H21: الترفيه | I21: Predicted (do not fill) | J21: الفعلي (املأ) | K21: الفرق (لا تملأ) | L21: Column1
B22: =Budget!B18 -> الرهن العقاري | C22: =Budget!C18 -> 0 | D22: 0 | E22: =Table158[[#This Row],[Predicted (do not fill)]]-Table158[[#This Row],[الفعلي (املأ)]] -> 0 | F22: =IF(Budget!D18="نعم",D22,0) -> 0 | H22: =Budget!G18 -> السينما | I22: =Budget!H18 -> 0 | J22: 0 | K22: =Table15864[[#This Row],[Predicted (do not fill)]]-Table15864[[#This Row],[الفعلي (املأ)]] -> 0 | L22: =IF(Budget!I18="نعم",J22,0) -> 0
B23: =Budget!B19 -> الكهرباء و المياه | C23: =Budget!C19 -> 0 | D23: 0 | E23: =Table158[[#This Row],[Predicted (do not fill)]]-Table158[[#This Row],[الفعلي (املأ)]] -> 0 | F23: =IF(Budget!D19="نعم",D23,0) -> 0 | H23: =Budget!G19 -> المطاعم | I23: =Budget!H19 -> 0 | J23: 0 | K23: =Table15864[[#This Row],[Predicted (do not fill)]]-Table15864[[#This Row],[الفعلي (املأ)]] -> 0 | L23: =IF(Budget!I19="نعم",J23,0) -> 0
B24: =Budget!B20 -> الصيانة | C24: =Budget!C20 -> 0 | D24: 0 | E24: =Table158[[#This Row],[Predicted (do not fill)]]-Table158[[#This Row],[الفعلي (املأ)]] -> 0 | F24: =IF(Budget!D20="نعم",D24,0) -> 0 | H24: =Budget!G20 -> الوجبات السريعة | I24: =Budget!H20 -> 0 | J24: 0 | K24: =Table15864[[#This Row],[Predicted (do not fill)]]-Table15864[[#This Row],[الفعلي (املأ)]] -> 0 | L24: =IF(Budget!I20="نعم",J24,0) -> 0
B25: =Budget!B21 -> التلفاز | C25: =Budget!C21 -> 0 | D25: 0 | E25: =Table158[[#This Row],[Predicted (do not fill)]]-Table158[[#This Row],[الفعلي (املأ)]] -> 0 | F25: =IF(Budget!D21="نعم",D25,0) -> 0 | H25: =Budget!G21 -> أقراص الفيديو | I25: =Budget!H21 -> 0 | J25: 0 | K25: =Table15864[[#This Row],[Predicted (do not fill)]]-Table15864[[#This Row],[الفعلي (املأ)]] -> 0 | L25: =IF(Budget!I21="نعم",J25,0) -> 0
B26: =Budget!B22 -> المفروشات | C26: =Budget!C22 -> 0 | D26: 0 | E26: =Table158[[#This Row],[Predicted (do not fill)]]-Table158[[#This Row],[الفعلي (املأ)]] -> 0 | F26: =IF(Budget!D22="نعم",D26,0) -> 0 | H26: =Budget!G22 -> <اخرى> | I26: =Budget!H22 -> 0 | J26: 0 | K26: =Table15864[[#This Row],[Predicted (do not fill)]]-Table15864[[#This Row],[الفعلي (املأ)]] -> 0 | L26: =IF(Budget!I22="نعم",J26,0) -> 0
B27: =Budget!B23 -> تجديد الحمام | C27: =Budget!C23 -> 0 | D27: 0 | E27: =Table158[[#This Row],[Predicted (do not fill)]]-Table158[[#This Row],[الفعلي (املأ)]] -> 0 | F27: =IF(Budget!D23="نعم",D27,0) -> 0 | H27: =Budget!G23 -> <اخرى> | I27: =Budget!H23 -> 0 | J27: 0 | K27: =Table15864[[#This Row],[Predicted (do not fill)]]-Table15864[[#This Row],[الفعلي (املأ)]] -> 0 | L27: =IF(Budget!I23="نعم",J27,0) -> 0
B28: =Budget!B24 -> <اخرى> | C28: =Budget!C24 -> 0 | D28: 0 | E28: =Table158[[#This Row],[Predicted (do not fill)]]-Table158[[#This Row],[الفعلي (املأ)]] -> 0 | F28: =IF(Budget!D24="نعم",D28,0) -> 0 | H28: =Budget!G24 -> <اخرى> | I28: =Budget!H24 -> 0 | J28: 0 | K28: =Table15864[[#This Row],[Predicted (do not fill)]]-Table15864[[#This Row],[الفعلي (املأ)]] -> 0 | L28: =IF(Budget!I24="نعم",J28,0) -> 0
B29: =Budget!B25 -> <اخرى> | C29: =Budget!C25 -> 0 | D29: 0 | E29: =Table158[[#This Row],[Predicted (do not fill)]]-Table158[[#This Row],[الفعلي (املأ)]] -> 0 | F29: =IF(Budget!D25="نعم",D29,0) -> 0 | H29: =Budget!G25 -> <اخرى> | I29: =Budget!H25 -> 0 | J29: 0 | K29: =Table15864[[#This Row],[Predicted (do not fill)]]-Table15864[[#This Row],[الفعلي (املأ)]] -> 0 | L29: =IF(Budget!I25="نعم",J29,0) -> 0
B30: المجموع | C30: =Budget!C26 -> 0 | D30: =SUM(Table158[الفعلي (املأ)]) -> 0 | E30: =SUBTOTAL(109,Table158[الفرق (لا تملأ)]) -> 0 | H30: المجموع | I30: =Budget!H26 -> 0 | J30: =SUM(Table15864[الفعلي (املأ)]) -> 0 | K30: =SUBTOTAL(109,Table15864[الفرق (لا تملأ)]) -> 0
B31: احسب الضروريات الخاصة بك | C31: =Budget!D26 -> 0 | D31: =SUM(Table158[Column1]) -> 0 | E31: =C31-D31 -> 0 | H31: احسب الضروريات الخاصة بك | I31: =Budget!I26 -> 0 | J31: =SUM(Table15864[Column1]) -> 0 | K31: =I31-J31 -> 0
B33: المواصلات | H33: الديون
B34: املأ التكاليف الفعلية و الضرورية | H34: املأ التكاليف الفعلية و الضرورية
B36: المواصلات | C36: Predicted (do not fill) | D36: الفعلي (املأ) | E36: الفرق (لا تملأ) | F36: Column1 | H36: الديون | I36: Predicted (do not fill) | J36: الفعلي (املأ) | K36: الفرق (لا تملأ) | L36: Column1
B37: =Budget!B29 -> البنزين | C37: =Budget!C29 -> 0 | D37: 0 | E37: =Table15863[[#This Row],[Predicted (do not fill)]]-Table15863[[#This Row],[الفعلي (املأ)]] -> 0 | F37: =IF(Budget!D29="نعم",D37,0) -> 0 | H37: =Budget!L18 -> بطاقة الائتمان 1 | I37: =Budget!M18 -> 0 | J37: 0 | K37: =Table1586367[[#This Row],[Predicted (do not fill)]]-Table1586367[[#This Row],[الفعلي (املأ)]] -> 0 | L37: =IF(Budget!N18="نعم",J37,0) -> 0
B38: =Budget!B30 -> الصيانة | C38: =Budget!C30 -> 0 | D38: 0 | E38: =Table15863[[#This Row],[Predicted (do not fill)]]-Table15863[[#This Row],[الفعلي (املأ)]] -> 0 | F38: =IF(Budget!D30="نعم",D38,0) -> 0 | H38: =Budget!L19 -> بطاقة الائتمان 2 | I38: =Budget!M19 -> 0 | J38: 0 | K38: =Table1586367[[#This Row],[Predicted (do not fill)]]-Table1586367[[#This Row],[الفعلي (املأ)]] -> 0 | L38: =IF(Budget!N19="نعم",J38,0) -> 0
B39: =Budget!B31 -> التأمين | C39: =Budget!C31 -> 0 | D39: 0 | E39: =Table15863[[#This Row],[Predicted (do not fill)]]-Table15863[[#This Row],[الفعلي (املأ)]] -> 0 | F39: =IF(Budget!D31="نعم",D39,0) -> 0 | H39: =Budget!L20 -> قرض السيارة | I39: =Budget!M20 -> 0 | J39: 0 | K39: =Table1586367[[#This Row],[Predicted (do not fill)]]-Table1586367[[#This Row],[الفعلي (املأ)]] -> 0 | L39: =IF(Budget!N20="نعم",J39,0) -> 0
B40: =Budget!B32 -> سيارة الأجرة | C40: =Budget!C32 -> 0 | D40: 0 | E40: =Table15863[[#This Row],[Predicted (do not fill)]]-Table15863[[#This Row],[الفعلي (املأ)]] -> 0 | F40: =IF(Budget!D32="نعم",D40,0) -> 0 | H40: =Budget!L21 -> القرض الشخصي | I40: =Budget!M21 -> 0 | J40: 0 | K40: =Table1586367[[#This Row],[Predicted (do not fill)]]-Table1586367[[#This Row],[الفعلي (املأ)]] -> 0 | L40: =IF(Budget!N21="نعم",J40,0) -> 0
B41: =Budget!B33 -> <اخرى> | C41: =Budget!C33 -> 0 | D41: 0 | E41: =Table15863[[#This Row],[Predicted (do not fill)]]-Table15863[[#This Row],[الفعلي (املأ)]] -> 0 | F41: =IF(Budget!D33="نعم",D41,0) -> 0 | H41: =Budget!L22 -> <اخرى> | I41: =Budget!M22 -> 0 | J41: 0 | K41: =Table1586367[[#This Row],[Predicted (do not fill)]]-Table1586367[[#This Row],[الفعلي (املأ)]] -> 0 | L41: =IF(Budget!N22="نعم",J41,0) -> 0
B42: =Budget!B34 -> <اخرى> | C42: =Budget!C34 -> 0 | D42: 0 | E42: =Table15863[[#This Row],[Predicted (do not fill)]]-Table15863[[#This Row],[الفعلي (املأ)]] -> 0 | F42: =IF(Budget!D34="نعم",D42,0) -> 0 | H42: =Budget!L23 -> <اخرى> | I42: =Budget!M23 -> 0 | J42: 0 | K42: =Table1586367[[#This Row],[Predicted (do not fill)]]-Table1586367[[#This Row],[الفعلي (املأ)]] -> 0 | L42: =IF(Budget!N23="نعم",J42,0) -> 0
B43: =Budget!B35 -> <اخرى> | C43: =Budget!C35 -> 0 | D43: 0 | E43: =Table15863[[#This Row],[Predicted (do not fill)]]-Table15863[[#This Row],[الفعلي (املأ)]] -> 0 | F43: =IF(Budget!D35="نعم",D43,0) -> 0 | H43: =Budget!L24 -> <اخرى> | I43: =Budget!M24 -> 0 | J43: 0 | K43: =Table1586367[[#This Row],[Predicted (do not fill)]]-Table1586367[[#This Row],[الفعلي (املأ)]] -> 0 | L43: =IF(Budget!N24="نعم",J43,0) -> 0
B44: المجموع | C44: =Budget!C36 -> 0 | D44: =SUM(Table15863[الفعلي (املأ)]) -> 0 | E44: =SUBTOTAL(109,Table15863[الفرق (لا تملأ)]) -> 0 | H44: =Budget!L25 -> <اخرى> | I44: =Budget!M25 -> 0 | J44: 0 | K44: =Table1586367[[#This Row],[Predicted (do not fill)]]-Table1586367[[#This Row],[الفعلي (املأ)]] -> 0 | L44: =IF(Budget!N25="نعم",J44,0) -> 0
B45: احسب الضروريات الخاصة بك | C45: =Budget!D36 -> 0 | D45: =SUM(Table15863[Column1]) -> 0 | E45: =C45-D45 -> 0 | H45: المجموع | I45: =SUBTOTAL(109,Table1586367[Predicted (do not fill)]) -> 0 | J45: =SUM(Table1586367[الفعلي (املأ)]) -> 0 | K45: =SUBTOTAL(109,Table1586367[الفرق (لا تملأ)]) -> 0
H46: احسب الضروريات الخاصة بك | I46: =Budget!M26 -> 0 | J46: =SUM(Table1586367[Column1]) -> 0 | K46: =I46-J46 -> 0
B48: المصاريف الشخصية | H48: الضروريات
B49: املأ التكاليف الفعلية و الضرورية | H49: انظر أدناه للحصول على مجموع الضروريات (لا حاجة لملأ أي شيء)
B50: المصاريف الشخصية | C50: Predicted (do not fill) | D50: الفعلي (املأ) | E50: الفرق (لا تملأ) | F50: Column1 | H50: اجمالي الضروريات | I50: Predicted (do not fill) | J50: الفعلي (املأ) | K50: الفرق (لا تملأ)
B51: =Budget!G29 -> الطعام | C51: =Budget!H29 -> 0 | D51: 0 | E51: =Table1586465[[#This Row],[Predicted (do not fill)]]-Table1586465[[#This Row],[الفعلي (املأ)]] -> 0 | F51: =IF(Budget!I29="نعم",D51,0) -> 0 | H51: =Budget!L29 -> المصاريف الشخصية | I51: =Budget!M29 -> 0 | J51: =D64 -> 0 | K51: =Table158636769[[#This Row],[Predicted (do not fill)]]-Table158636769[[#This Row],[الفعلي (املأ)]] -> 0
B52: =Budget!G30 -> الخادمة | C52: =Budget!H30 -> 0 | D52: 0 | E52: =Table1586465[[#This Row],[Predicted (do not fill)]]-Table1586465[[#This Row],[الفعلي (املأ)]] -> 0 | F52: =IF(Budget!I30="نعم",D52,0) -> 0 | H52: =Budget!L30 -> السكن | I52: =Budget!M30 -> 0 | J52: =D31 -> 0 | K52: =Table158636769[[#This Row],[Predicted (do not fill)]]-Table158636769[[#This Row],[الفعلي (املأ)]] -> 0
B53: =Budget!G31 -> الملابس | C53: =Budget!H31 -> 0 | D53: 0 | E53: =Table1586465[[#This Row],[Predicted (do not fill)]]-Table1586465[[#This Row],[الفعلي (املأ)]] -> 0 | F53: =IF(Budget!I31="نعم",D53,0) -> 0 | H53: =Budget!L31 -> المواصلات | I53: =Budget!M31 -> 0 | J53: =D45 -> 0 | K53: =Table158636769[[#This Row],[Predicted (do not fill)]]-Table158636769[[#This Row],[الفعلي (املأ)]] -> 0
B54: =Budget!G32 -> الأحذية | C54: =Budget!H32 -> 0 | D54: 0 | E54: =Table1586465[[#This Row],[Predicted (do not fill)]]-Table1586465[[#This Row],[الفعلي (املأ)]] -> 0 | F54: =IF(Budget!I32="نعم",D54,0) -> 0 | H54: =Budget!L32 -> الديون | I54: =Budget!M32 -> 0 | J54: =J46 -> 0 | K54: =Table158636769[[#This Row],[Predicted (do not fill)]]-Table158636769[[#This Row],[الفعلي (املأ)]] -> 0
B55: =Budget!G33 -> الأطفال | C55: =Budget!H33 -> 0 | D55: 0 | E55: =Table1586465[[#This Row],[Predicted (do not fill)]]-Table1586465[[#This Row],[الفعلي (املأ)]] -> 0 | F55: =IF(Budget!I33="نعم",D55,0) -> 0 | H55: =Budget!L33 -> الترفيه | I55: =Budget!M33 -> 0 | J55: =J31 -> 0 | K55: =Table158636769[[#This Row],[Predicted (do not fill)]]-Table158636769[[#This Row],[الفعلي (املأ)]] -> 0
B56: =Budget!G34 -> المجوهرات | C56: =Budget!H34 -> 0 | D56: 0 | E56: =Table1586465[[#This Row],[Predicted (do not fill)]]-Table1586465[[#This Row],[الفعلي (املأ)]] -> 0 | F56: =IF(Budget!I34="نعم",D56,0) -> 0 | H56: المجموع | I56: =SUBTOTAL(109,Table158636769[Predicted (do not fill)]) -> 0 | J56: =SUM(Table158636769[الفعلي (املأ)]) -> 0 | K56: =SUBTOTAL(109,Table158636769[الفرق (لا تملأ)]) -> 0
B57: =Budget!G35 -> الهدايا | C57: =Budget!H35 -> 0 | D57: 0 | E57: =Table1586465[[#This Row],[Predicted (do not fill)]]-Table1586465[[#This Row],[الفعلي (املأ)]] -> 0 | F57: =IF(Budget!I35="نعم",D57,0) -> 0
B58: =Budget!G36 -> <اخرى> | C58: =Budget!H36 -> 0 | D58: 0 | E58: =Table1586465[[#This Row],[Predicted (do not fill)]]-Table1586465[[#This Row],[الفعلي (املأ)]] -> 0 | F58: =IF(Budget!I36="نعم",D58,0) -> 0 | H58: اجمالي التكاليف المتوقعة | K58: =SUM(Table158[[#Totals],[الفعلي (املأ)]]+Table15864[[#Totals],[الفعلي (املأ)]]+Table15863[[#Totals],[الفعلي (املأ)]]+Table1586465[[#Totals],[الفعلي (املأ)]]+Table1586367[[#Totals],[الفعلي (املأ)]]) -> 0
B59: =Budget!G37 -> <اخرى> | C59: =Budget!H37 -> 0 | D59: 0 | E59: =Table1586465[[#This Row],[Predicted (do not fill)]]-Table1586465[[#This Row],[الفعلي (املأ)]] -> 0 | F59: =IF(Budget!I37="نعم",D59,0) -> 0
B60: =Budget!G38 -> <اخرى> | C60: =Budget!H38 -> 0 | D60: 0 | E60: =Table1586465[[#This Row],[Predicted (do not fill)]]-Table1586465[[#This Row],[الفعلي (املأ)]] -> 0 | F60: =IF(Budget!I38="نعم",D60,0) -> 0
B61: =Budget!G39 -> <اخرى> | C61: =Budget!H39 -> 0 | D61: 0 | E61: =Table1586465[[#This Row],[Predicted (do not fill)]]-Table1586465[[#This Row],[الفعلي (املأ)]] -> 0 | F61: =IF(Budget!I39="نعم",D61,0) -> 0
B62: =Budget!G40 -> <اخرى> | C62: =Budget!H40 -> 10 | D62: 0 | E62: =Table1586465[[#This Row],[Predicted (do not fill)]]-Table1586465[[#This Row],[الفعلي (املأ)]] -> 10 | F62: =IF(Budget!I40="نعم",D62,0) -> 0 | H62: اجمالي التكاليف المتوقعة الغير ضرورية | K62: =SUM(K58-Table158636769[[#Totals],[الفعلي (املأ)]]) -> 0
B63: المجموع | C63: =SUBTOTAL(109,Table1586465[Predicted (do not fill)]) -> 10 | D63: =SUM(Table1586465[الفعلي (املأ)]) -> 0 | E63: =SUBTOTAL(109,Table1586465[الفرق (لا تملأ)]) -> 10
B64: احسب الضروريات الخاصة بك | C64: =Budget!I41 -> 0 | D64: =SUM(F51:F62 ) -> 0 | E64: =C64-D64 -> 0

Sheet Sheet1
A1: نعم
A2: لا
A11: يناير
A12: فبراير
A13: مارس
A14: ابريل
A15: مايو
A16: يونيو
A17: يوليو
A18: أغسطس
A19: سبتمبر
A20: أكتوبر
... A22: ديسمبر
